BEGIN:VCALENDAR
PRODID:-//eluceo/ical//2.0/EN
VERSION:2.0
CALSCALE:GREGORIAN
BEGIN:VEVENT
UID:97990a51d27d26dab4dbef8670f456d2
DTSTAMP:20260420T235730Z
SUMMARY:What's the Buzzzz Community Rosh Hashanah
DESCRIPTION:Jewish Federation & Foundation of Northeast Florida\nYouth Educ
 ation\nhttps://jewishjacksonville.org/youth-education/whats-385570\n\nBrin
 g your family to learn about bees and how they make honey. You will also b
 e able to observe a live hive from Bee Friends Farm!  We will do crafts\,
  listen to stories\, and sing songs while learning all about the special
  Jewish New Year\, Rosh Hashanah. This program is in partnership with JC
 A\, PJ Library\, Jewish Federation & Foundation of Northeast Florida\, and
  Congregation Ahavath Chesed. Can't wait to see you there!
DTSTART;TZID=America/New_York:20210822T150000
DTEND;TZID=America/New_York:20210822T163000
END:VEVENT
END:VCALENDAR
