BEGIN:VCALENDAR
PRODID:-//eluceo/ical//2.0/EN
VERSION:2.0
CALSCALE:GREGORIAN
BEGIN:VEVENT
UID:5dbc160bc59291b9b18c779d406f5bde
DTSTAMP:20260422T050841Z
SUMMARY:6PM Torah Academy Spring FUNDRAISER
DESCRIPTION:Jewish Federation & Foundation of Northeast Florida\nYouth Educ
 ation\nhttps://jewishjacksonville.org/youth-education/6pm-torah-academy-sp
 ring-fundraiser-8551\n\n6PM Torah Academy Spring FUNDRAISER
DTSTART;TZID=America/New_York:20140518T180000
DTEND;TZID=America/New_York:20140518T220000
END:VEVENT
END:VCALENDAR
