BEGIN:VCALENDAR
PRODID:-//eluceo/ical//2.0/EN
VERSION:2.0
CALSCALE:GREGORIAN
BEGIN:VEVENT
UID:881a745ce7a36ad2861042fed922d47f
DTSTAMP:20260422T003454Z
SUMMARY:11AM JJC DuBow Preschool - VPK Shoobee\, Doobee Shabbat
DESCRIPTION:Jewish Federation & Foundation of Northeast Florida\nYouth Educ
 ation\nhttps://jewishjacksonville.org/youth-education/11am-jjc-dubow-presc
 hool---vpk-shoobee-doobee-shabbat-48602\n\n11AM Dubow Preschool's VPK Shoo
 bee\, Doobee Shabbat
DTSTART;TZID=America/New_York:20140124T110000
DTEND;TZID=America/New_York:20140124T113000
END:VEVENT
END:VCALENDAR
