BEGIN:VCALENDAR
PRODID:-//eluceo/ical//2.0/EN
VERSION:2.0
CALSCALE:GREGORIAN
BEGIN:VEVENT
UID:df2641318af0b69718f32719624254e0
DTSTAMP:20260421T020933Z
SUMMARY:5:45 pm YPF Quarterly Cocktails
DESCRIPTION:Jewish Federation & Foundation of Northeast Florida\nrGEN Event
 s\nhttps://jewishjacksonville.org/rgen-events/ypf-quarterly-cocktails-3886
 25\n\nYPF Quarterly Cocktails event \n\nLocation Dozinger Library JCA
DTSTART;TZID=America/New_York:20220505T174500
DTEND;TZID=America/New_York:20220505T184500
END:VEVENT
END:VCALENDAR
