BEGIN:VCALENDAR
PRODID:-//eluceo/ical//2.0/EN
VERSION:2.0
CALSCALE:GREGORIAN
BEGIN:VEVENT
UID:d95e621979c3a3328a369269e27e060e
DTSTAMP:20260424T061440Z
SUMMARY:2:00PM rGEN Family Extravaganza
DESCRIPTION:Jewish Federation & Foundation of Northeast Florida\nrGEN Event
 s\nhttps://jewishjacksonville.org/rgen-events/rgen-family-chanukah-207259\
 n\nHanukkah celebration for kids of all ages\, including doughnut decorati
 ng\, story time with PJ library\, crafts with DuBow Preschool Treehouse C
 olor Splash\, and music. Kosher event. 
DTSTART;TZID=America/New_York:20161218T140000
DTEND;TZID=America/New_York:20161218T160000
END:VEVENT
END:VCALENDAR
