BEGIN:VCALENDAR
PRODID:-//eluceo/ical//2.0/EN
VERSION:2.0
CALSCALE:GREGORIAN
BEGIN:VEVENT
UID:7ab12c459c9df11003fa587651002eb6
DTSTAMP:20260420T135915Z
SUMMARY:6:00 p.m. Federation rGEN BRIDGES Program Meeting
DESCRIPTION:Jewish Federation & Foundation of Northeast Florida\nrGEN Event
 s\nhttps://jewishjacksonville.org/rgen-events/mar-federation-bridges-progr
 am-meeting-306203\n\nFederation rGEN BRIDGES program meeting\n\nMarch 18. 
 2020\n\n6:00 - 8:30 p.m.
DTSTART;TZID=America/New_York:20200318T180000
DTEND;TZID=America/New_York:20200318T203000
END:VEVENT
END:VCALENDAR
