BEGIN:VCALENDAR
PRODID:-//eluceo/ical//2.0/EN
VERSION:2.0
CALSCALE:GREGORIAN
BEGIN:VEVENT
UID:f42aad240ed69d8127a5bedade0dca9c
DTSTAMP:20260424T170650Z
SUMMARY:6:00 PM  rGEN Brews & Schmooze Happy Hour
DESCRIPTION:Jewish Federation & Foundation of Northeast Florida\nrGEN Event
 s\nhttps://jewishjacksonville.org/rgen-events/brews-schmooze-blind-rabbit-
 229415\n\nJoin other Jewish young adults for our summer happy hour series:
  Brews & Schmooze!" \n\n \n\nBeginning at 5:30PM\n\nBlind Rabbit\n\n311
  3rd St. N\n\n \n\nCheck out additional dates/times at https://jewishjac
 ksonville.org/rgenbrews\n\n \n\nPlease contact Ariel Frechtman for more
  information at arielf@jewishjacksonville.org or (904) 448-5000 ext. 1
 208 
DTSTART;TZID=America/New_York:20170627T180000
DTEND;TZID=America/New_York:20170627T200000
END:VEVENT
END:VCALENDAR
