BEGIN:VCALENDAR
PRODID:-//eluceo/ical//2.0/EN
VERSION:2.0
CALSCALE:GREGORIAN
BEGIN:VEVENT
UID:f401b02427f5d229569667afe0ad8ebc
DTSTAMP:20260422T134033Z
SUMMARY:11:00 AM rGEN Brews & Schmooze Happy Hour
DESCRIPTION:Jewish Federation & Foundation of Northeast Florida\nrGEN Event
 s\nhttps://jewishjacksonville.org/rgen-events/brews-schmooze-Bold-Bean-229
 419\n\nJoin other Jewish young adults for our summer happy hour series: Br
 ews & Schmooze!" \n\n \n\nBeginning at 11:00am\n\nBold Bean\n\n1905 Hen
 dricks Ave\n\n \n\nPlease contact Ariel Frechtman for more information 
 at arielf@jewishjacksonville.org or (904) 448-5000 ext. 1208 \n\n \n
 \n \n\n. 
DTSTART;TZID=America/New_York:20170903T110000
DTEND;TZID=America/New_York:20170903T130000
END:VEVENT
END:VCALENDAR
