BEGIN:VCALENDAR
PRODID:-//eluceo/ical//2.0/EN
VERSION:2.0
CALSCALE:GREGORIAN
BEGIN:VEVENT
UID:123a6d33af863d85bb8724ffb7e530a0
DTSTAMP:20260422T103507Z
SUMMARY:7:30PM Federation Cocktails and Clergy
DESCRIPTION:Jewish Federation & Foundation of Northeast Florida\nrGEN Event
 s\nhttps://jewishjacksonville.org/rgen-events/730pm-federation-cocktails-a
 nd-clergy-203109\n\nCommunity-wide learning facilitated by our community's
  rabbis. Featuring discussion topics of all different varieties\, as well 
 as community-wide Havdalah and a desert & cocktail reception. Free and ope
 n to the entire Jewish community! Hosted by Congregation Ahavath Chesed (T
 he Temple). 
DTSTART;TZID=America/New_York:20170218T193000
DTEND;TZID=America/New_York:20170218T220000
END:VEVENT
END:VCALENDAR
