BEGIN:VCALENDAR
PRODID:-//eluceo/ical//2.0/EN
VERSION:2.0
CALSCALE:GREGORIAN
BEGIN:VEVENT
UID:ad9d25e0c5ea75792d1635946a37777e
DTSTAMP:20260424T061234Z
SUMMARY:7:00 PM rGEN Steering Committee Meeting
DESCRIPTION:Jewish Federation & Foundation of Northeast Florida\nrGEN Event
 s\nhttps://jewishjacksonville.org/rgen-events/700-pm-rgen-steering-committ
 ee-meeting-may-203461\n\n2016-2017 Meeting of the Minds!\n\nMiller residen
 ce (San Marco)
DTSTART;TZID=America/New_York:20170524T190000
DTEND;TZID=America/New_York:20170524T210000
END:VEVENT
END:VCALENDAR
