BEGIN:VCALENDAR
PRODID:-//eluceo/ical//2.0/EN
VERSION:2.0
CALSCALE:GREGORIAN
BEGIN:VEVENT
UID:bfa4a0c7fabc13ddd1c337430ca8671b
DTSTAMP:20260421T074346Z
SUMMARY:7:00 PM rGEN at the movies
DESCRIPTION:Jewish Federation & Foundation of Northeast Florida\nrGEN Event
 s\nhttps://jewishjacksonville.org/rgen-events/700-pm-rgen-at-the-movies-20
 7256\n\nViewing of "Partner with the Enemy" (documentary about a business 
 relationship between a Palestinian & an Israeli woman) followed by group d
 iscussion facilitated by guest speaker (TBD). Chair will work with Dana Ma
 rmari\, Israeli community shlicha to plan. $10/ticket. 
DTSTART;TZID=America/New_York:20161114T190000
DTEND;TZID=America/New_York:20161114T210000
END:VEVENT
END:VCALENDAR
