BEGIN:VCALENDAR
PRODID:-//eluceo/ical//2.0/EN
VERSION:2.0
CALSCALE:GREGORIAN
BEGIN:VEVENT
UID:21655cca2f947487cd5790359da948ac
DTSTAMP:20260423T161159Z
SUMMARY:6:00PM Federation Board Meeting
DESCRIPTION:Jewish Federation & Foundation of Northeast Florida\nrGEN Event
 s\nhttps://jewishjacksonville.org/rgen-events/600pmJan-federation-board-me
 eting-275624\n\nFederation Board Meeting \n\n6:00 PM
DTSTART;TZID=America/New_York:20190124T180000
DTEND;TZID=America/New_York:20190124T193000
END:VEVENT
END:VCALENDAR
