BEGIN:VCALENDAR
PRODID:-//eluceo/ical//2.0/EN
VERSION:2.0
CALSCALE:GREGORIAN
BEGIN:VEVENT
UID:e96441509a4717b5f85ca5ed9b3b54c4
DTSTAMP:20260425T232025Z
SUMMARY:6:00PM Federation Allocations Meeting 2
DESCRIPTION:Jewish Federation & Foundation of Northeast Florida\nrGEN Event
 s\nhttps://jewishjacksonville.org/rgen-events/600pm-federation-allocations
 -meeting-2-286531\n\nFederation Allocations Meeting\n\n6:00 PM\n\nJCA
DTSTART;TZID=America/New_York:20190416T180000
DTEND;TZID=America/New_York:20190416T200000
END:VEVENT
END:VCALENDAR
