BEGIN:VCALENDAR
PRODID:-//eluceo/ical//2.0/EN
VERSION:2.0
CALSCALE:GREGORIAN
BEGIN:VEVENT
UID:f7ad3ce93947294053cc6f941d9437f6
DTSTAMP:20260421T193518Z
SUMMARY:10AM River Garden Gala committee meeting
DESCRIPTION:Jewish Federation & Foundation of Northeast Florida\nOrganizati
 on regular meeting\nhttps://jewishjacksonville.org/organization-regular-me
 eting/river-garden-gala-committee-meeting4-105900\n\nRG Gala committee mee
 ting
DTSTART;TZID=America/New_York:20141104T100000
DTEND;TZID=America/New_York:20141104T120000
END:VEVENT
END:VCALENDAR
