BEGIN:VCALENDAR
PRODID:-//eluceo/ical//2.0/EN
VERSION:2.0
CALSCALE:GREGORIAN
BEGIN:VEVENT
UID:449e1e8e47253add5d01f95b3dd75b36
DTSTAMP:20260423T234733Z
SUMMARY:10:30 AM River Garden Auxiliary board meeting
DESCRIPTION:Jewish Federation & Foundation of Northeast Florida\nOrganizati
 on regular meeting\nhttps://jewishjacksonville.org/organization-regular-me
 eting/river-garden-auxiliary-board-meeting-89760\n\nRiver Garden Auxiliary
  board meetings
DTSTART;TZID=America/New_York:20150120T103000
DTEND;TZID=America/New_York:20150120T120000
END:VEVENT
END:VCALENDAR
