BEGIN:VCALENDAR
PRODID:-//eluceo/ical//2.0/EN
VERSION:2.0
CALSCALE:GREGORIAN
BEGIN:VEVENT
UID:959aaafd8f0cdc11ca13a320d888817b
DTSTAMP:20260419T210310Z
SUMMARY:12:00 p.m. Federation Women's Division Steering Committee Meeting
DESCRIPTION:Jewish Federation & Foundation of Northeast Florida\nOrganizati
 on regular meeting\nhttps://jewishjacksonville.org/organization-regular-me
 eting/jan-federation-womens-division-steering-committee-meeting-310283\n\n
 Federation Women's Division Steering Committee Meeting\n\nJanuary 22\, 202
 0\n\n12:00 p.m. - 1:00 p.m.\n\n 
DTSTART;TZID=America/New_York:20200122T120000
DTEND;TZID=America/New_York:20200122T130000
END:VEVENT
END:VCALENDAR
