BEGIN:VCALENDAR
PRODID:-//eluceo/ical//2.0/EN
VERSION:2.0
CALSCALE:GREGORIAN
BEGIN:VEVENT
UID:8deb066e39f98f04306709468ba61144
DTSTAMP:20260425T025754Z
SUMMARY:10AM Federation Board Retreat
DESCRIPTION:Jewish Federation & Foundation of Northeast Florida\nOrganizati
 on regular meeting\nhttps://jewishjacksonville.org/organization-regular-me
 eting/federation-board-retreat-310276\n\nFederation Board Retreat\n\nSepte
 mber 22\, 2019\n\n10:00 a.m. - 3:00 p.m.\n\n 
DTSTART;TZID=America/New_York:20190922T100000
DTEND;TZID=America/New_York:20190922T150000
END:VEVENT
END:VCALENDAR
