BEGIN:VCALENDAR
PRODID:-//eluceo/ical//2.0/EN
VERSION:2.0
CALSCALE:GREGORIAN
BEGIN:VEVENT
UID:6daab49b9544321bf85c1b8189504863
DTSTAMP:20260422T035054Z
SUMMARY:Create a Jewish Legacy Meeting
DESCRIPTION:Jewish Federation & Foundation of Northeast Florida\nOrganizati
 on regular meeting\nhttps://jewishjacksonville.org/organization-regular-me
 eting/create-a-jewish-legacy-meeting-8592\n\n5:30PM CJL Meeting
DTSTART;TZID=America/New_York:20140226T173000
DTEND;TZID=America/New_York:20140226T203000
END:VEVENT
END:VCALENDAR
