BEGIN:VCALENDAR
PRODID:-//eluceo/ical//2.0/EN
VERSION:2.0
CALSCALE:GREGORIAN
BEGIN:VEVENT
UID:482954715ddeb08376468b7f6d1ce2f0
DTSTAMP:20260420T163949Z
SUMMARY:7PM River Garden Senior Services Board Meeting
DESCRIPTION:Jewish Federation & Foundation of Northeast Florida\nOrganizati
 on regular meeting\nhttps://jewishjacksonville.org/organization-regular-me
 eting/7pm-river-garden-senior-services-board-meeting8-150909\n\nRiver Gard
 en Senior Services Board Meeting - 7:00 p.m. at River Garden Senior Servic
 es.
DTSTART;TZID=America/New_York:20160523T190000
DTEND;TZID=America/New_York:20160523T200000
END:VEVENT
END:VCALENDAR
