BEGIN:VCALENDAR
PRODID:-//eluceo/ical//2.0/EN
VERSION:2.0
CALSCALE:GREGORIAN
BEGIN:VEVENT
UID:8101529079528d57eac262a3fc9b65bb
DTSTAMP:20260424T074654Z
SUMMARY:7PM River Garden Senior Services Board Meeting
DESCRIPTION:Jewish Federation & Foundation of Northeast Florida\nOrganizati
 on regular meeting\nhttps://jewishjacksonville.org/organization-regular-me
 eting/7pm-river-garden-senior-services-board-meeting5-150903\n\nRiver Gard
 en Senior Services Board Meeting - 7:00 p.m. at River Garden Senior Servic
 es.
DTSTART;TZID=America/New_York:20160125T190000
DTEND;TZID=America/New_York:20160125T200000
END:VEVENT
END:VCALENDAR
