BEGIN:VCALENDAR
PRODID:-//eluceo/ical//2.0/EN
VERSION:2.0
CALSCALE:GREGORIAN
BEGIN:VEVENT
UID:7b6f3f72a2b28a75f06359c587b7e1c2
DTSTAMP:20260422T160759Z
SUMMARY:7PM River Garden Senior Services Board Meeting
DESCRIPTION:Jewish Federation & Foundation of Northeast Florida\nOrganizati
 on regular meeting\nhttps://jewishjacksonville.org/organization-regular-me
 eting/7pm-river-garden-senior-services-board-meeting3-150899\n\nRiver Gard
 en Senior Services Board Meeting at 7:00 p.m. at River Garden Senior Servi
 ces.
DTSTART;TZID=America/New_York:20151116T190000
DTEND;TZID=America/New_York:20151116T200000
END:VEVENT
END:VCALENDAR
