BEGIN:VCALENDAR
PRODID:-//eluceo/ical//2.0/EN
VERSION:2.0
CALSCALE:GREGORIAN
BEGIN:VEVENT
UID:b54d2cd15b126b3ab1e628e38055592b
DTSTAMP:20260425T163037Z
SUMMARY:7PM JJC Committee Meetings - Membership Committee
DESCRIPTION:Jewish Federation & Foundation of Northeast Florida\nOrganizati
 on regular meeting\nhttps://jewishjacksonville.org/organization-regular-me
 eting/7pm-jjc-committee-meetings---membership-committee-8343\n\n7PM JJC Me
 mbership Committee
DTSTART;TZID=America/New_York:20131002T190000
DTEND;TZID=America/New_York:20131002T203000
END:VEVENT
END:VCALENDAR
