BEGIN:VCALENDAR
PRODID:-//eluceo/ical//2.0/EN
VERSION:2.0
CALSCALE:GREGORIAN
BEGIN:VEVENT
UID:6f95de43dfce2040f2a56b7d707c6a89
DTSTAMP:20260426T010357Z
SUMMARY:7PM JJC Committee Meeting - Galinsky Academy Education Cabinet
DESCRIPTION:Jewish Federation & Foundation of Northeast Florida\nOrganizati
 on regular meeting\nhttps://jewishjacksonville.org/organization-regular-me
 eting/7pm-jjc-committee-meeting---galinsky-academy-education-cabinet\n\n7P
 M JJC Galinsky Academy Cabinet Meeting
DTSTART;TZID=America/New_York:20131003T190000
DTEND;TZID=America/New_York:20131003T210000
END:VEVENT
END:VCALENDAR
