BEGIN:VCALENDAR
PRODID:-//eluceo/ical//2.0/EN
VERSION:2.0
CALSCALE:GREGORIAN
BEGIN:VEVENT
UID:82952779c2fccb689763ed6544a80c90
DTSTAMP:20260424T031705Z
SUMMARY:7PM JJC Committee Meeting - Academy Trustees Committee
DESCRIPTION:Jewish Federation & Foundation of Northeast Florida\nOrganizati
 on regular meeting\nhttps://jewishjacksonville.org/organization-regular-me
 eting/7pm-jjc-committee-meeting---academy-trustees-committee\n\n7PM JJC Ac
 ademy Trustees Committee
DTSTART;TZID=America/New_York:20131009T190000
DTEND;TZID=America/New_York:20131009T210000
END:VEVENT
END:VCALENDAR
