BEGIN:VCALENDAR
PRODID:-//eluceo/ical//2.0/EN
VERSION:2.0
CALSCALE:GREGORIAN
BEGIN:VEVENT
UID:b18f72062b05c3b8c752eb43683e2308
DTSTAMP:20260424T010903Z
SUMMARY:7PM JJC Board Meeting
DESCRIPTION:Jewish Federation & Foundation of Northeast Florida\nOrganizati
 on regular meeting\nhttps://jewishjacksonville.org/organization-regular-me
 eting/7pm-jjc-board-meeting\n\n7PM JJC Board Meeting
DTSTART;TZID=America/New_York:20131017T190000
DTEND;TZID=America/New_York:20131017T210000
END:VEVENT
END:VCALENDAR
