BEGIN:VCALENDAR
PRODID:-//eluceo/ical//2.0/EN
VERSION:2.0
CALSCALE:GREGORIAN
BEGIN:VEVENT
UID:0bd08035a498d004d6d7b6a1e0554ebb
DTSTAMP:20260420T121342Z
SUMMARY:7:15PM JJC Board
DESCRIPTION:Jewish Federation & Foundation of Northeast Florida\nOrganizati
 on regular meeting\nhttps://jewishjacksonville.org/organization-regular-me
 eting/715-pm-jjc-board7-150662\n\nMonthly meeting of the JJC Board
DTSTART;TZID=America/New_York:20160218T191500
DTEND;TZID=America/New_York:20160218T210000
END:VEVENT
END:VCALENDAR
