BEGIN:VCALENDAR
PRODID:-//eluceo/ical//2.0/EN
VERSION:2.0
CALSCALE:GREGORIAN
BEGIN:VEVENT
UID:6b4c62f6ea9cc1ceff256d18b9e32cb2
DTSTAMP:20260425T205318Z
SUMMARY:7:15PM JJC Board
DESCRIPTION:Jewish Federation & Foundation of Northeast Florida\nOrganizati
 on regular meeting\nhttps://jewishjacksonville.org/organization-regular-me
 eting/715-pm-jjc-board11-150667\n\nMonthly meeting of the JJC Board
DTSTART;TZID=America/New_York:20160414T191500
DTEND;TZID=America/New_York:20160414T210000
END:VEVENT
END:VCALENDAR
