BEGIN:VCALENDAR
PRODID:-//eluceo/ical//2.0/EN
VERSION:2.0
CALSCALE:GREGORIAN
BEGIN:VEVENT
UID:e9a7b0393cb4851f7d4771a759edf3f2
DTSTAMP:20260421T004539Z
SUMMARY:6PM Federation Board Meeting
DESCRIPTION:Jewish Federation & Foundation of Northeast Florida\nOrganizati
 on regular meeting\nhttps://jewishjacksonville.org/organization-regular-me
 eting/6pm-federation-board-meeting-oct-150599\n\nFederation combined Execu
 tive and Board Meeting (first of the campaign).
DTSTART;TZID=America/New_York:20150924T180000
DTEND;TZID=America/New_York:20150924T210000
END:VEVENT
END:VCALENDAR
