BEGIN:VCALENDAR
PRODID:-//eluceo/ical//2.0/EN
VERSION:2.0
CALSCALE:GREGORIAN
BEGIN:VEVENT
UID:b58dea9d07adbc42a438a68c8ed73bc0
DTSTAMP:20260419T152817Z
SUMMARY:6:30PM River Garden Admissions Committee Meeting
DESCRIPTION:Jewish Federation & Foundation of Northeast Florida\nOrganizati
 on regular meeting\nhttps://jewishjacksonville.org/organization-regular-me
 eting/630pm-river-garden-admissions-committee-meeting6-150856\n\nRiver Gar
 den Admissions Committee Meeting. 6:30 p.m. at River Garden Senior Service
 s.
DTSTART;TZID=America/New_York:20160222T183000
DTEND;TZID=America/New_York:20160222T193000
END:VEVENT
END:VCALENDAR
