BEGIN:VCALENDAR
PRODID:-//eluceo/ical//2.0/EN
VERSION:2.0
CALSCALE:GREGORIAN
BEGIN:VEVENT
UID:2461c060c84757f8caeb171f8f497487
DTSTAMP:20260421T061408Z
SUMMARY:5:30PM River Garden Home Board Meeting
DESCRIPTION:Jewish Federation & Foundation of Northeast Florida\nOrganizati
 on regular meeting\nhttps://jewishjacksonville.org/organization-regular-me
 eting/530pm-river-garden-home-board-meeting-150828\n\nRiver Garden Home Bo
 ard meeting. 5:30 p.m. at River Garden Senior Services.
DTSTART;TZID=America/New_York:20160627T173000
DTEND;TZID=America/New_York:20160627T183000
END:VEVENT
END:VCALENDAR
