BEGIN:VCALENDAR
PRODID:-//eluceo/ical//2.0/EN
VERSION:2.0
CALSCALE:GREGORIAN
BEGIN:VEVENT
UID:b9d405c4de148b2ea828a8727d5545f0
DTSTAMP:20260426T010325Z
SUMMARY:5:30PM River Garden Home Board Meeting
DESCRIPTION:Jewish Federation & Foundation of Northeast Florida\nOrganizati
 on regular meeting\nhttps://jewishjacksonville.org/organization-regular-me
 eting/530pm-river-garden-home-board-meeting-150821\n\nRiver Garden Home Bo
 ard meeting. 5:30 p.m. at River Garden Senior Services.
DTSTART;TZID=America/New_York:20150921T173000
DTEND;TZID=America/New_York:20150921T193000
END:VEVENT
END:VCALENDAR
