BEGIN:VCALENDAR
PRODID:-//eluceo/ical//2.0/EN
VERSION:2.0
CALSCALE:GREGORIAN
BEGIN:VEVENT
UID:041928cbff5d0ee41f0e4f56ecb5e85a
DTSTAMP:20260422T053737Z
SUMMARY:5:30 PM River Garden Senior Services Board Meeting
DESCRIPTION:Jewish Federation & Foundation of Northeast Florida\nOrganizati
 on regular meeting\nhttps://jewishjacksonville.org/organization-regular-me
 eting/530-pm-river-garden-senior-services-board-meeting-105936\n\nSenior S
 ervices Board Meeting
DTSTART;TZID=America/New_York:20140922T173000
DTEND;TZID=America/New_York:20140922T183000
END:VEVENT
END:VCALENDAR
