BEGIN:VCALENDAR
PRODID:-//eluceo/ical//2.0/EN
VERSION:2.0
CALSCALE:GREGORIAN
BEGIN:VEVENT
UID:961b043d7a9e52d09064d67218fe940c
DTSTAMP:20260426T041636Z
SUMMARY:12AM JJC Schemer Bat Mitzvah
DESCRIPTION:Jewish Federation & Foundation of Northeast Florida\nJewish Tee
 ns\nhttps://jewishjacksonville.org/jewish-teens/12am-jjc-schemer-bat-mitzv
 ah-48691\n\n12AM Schemer Bat Mitzvah
DTSTART;TZID=America/New_York:20140222T000000
DTEND;TZID=America/New_York:20140222T235900
END:VEVENT
END:VCALENDAR
