BEGIN:VCALENDAR
PRODID:-//eluceo/ical//2.0/EN
VERSION:2.0
CALSCALE:GREGORIAN
BEGIN:VEVENT
UID:bec38b4530d7ec63cf4de7edbb0e7c3a
DTSTAMP:20260420T200511Z
SUMMARY:12AM JJC Lifecycle Events - Shira D. Bat Mitzvah
DESCRIPTION:Jewish Federation & Foundation of Northeast Florida\nJewish Tee
 ns\nhttps://jewishjacksonville.org/jewish-teens/12am-jjc-lifecycle-events-
 --shira-d-bat-mitzvah-48529\n\n12AM Shira D. Bat Mitzvah
DTSTART;TZID=America/New_York:20130817T000000
DTEND;TZID=America/New_York:20130817T235900
END:VEVENT
END:VCALENDAR
