BEGIN:VCALENDAR
PRODID:-//eluceo/ical//2.0/EN
VERSION:2.0
CALSCALE:GREGORIAN
BEGIN:VEVENT
UID:b4b6ab66624c36d5a372f9e5a16ec61d
DTSTAMP:20260422T071332Z
SUMMARY:12AM JJC Lifecycle Event - Barbie Goldstein Bat Mitzvah
DESCRIPTION:Jewish Federation & Foundation of Northeast Florida\nJewish Tee
 ns\nhttps://jewishjacksonville.org/jewish-teens/12am-jjc-lifecycle-event--
 -barbie-goldstein-bat-mitzvah-8496\n\n12AM Goldstein Bat Mitzvah
DTSTART;TZID=America/New_York:20140117T000000
DTEND;TZID=America/New_York:20140117T235900
END:VEVENT
END:VCALENDAR
