BEGIN:VCALENDAR
PRODID:-//eluceo/ical//2.0/EN
VERSION:2.0
CALSCALE:GREGORIAN
BEGIN:VEVENT
UID:d50de3a5d7f6e74fbf6aab975c7a7bc8
DTSTAMP:20260422T021422Z
SUMMARY:11AM JJC B'Nei Mitzvah Program - Chevruta Torah Story - 6th graders
  and fam
DESCRIPTION:Jewish Federation & Foundation of Northeast Florida\nJewish Tee
 ns\nhttps://jewishjacksonville.org/jewish-teens/11am-jjc-bnei-mitzvah-prog
 ram---chevruta-torah-story---6th-graders-and-families-8403\n\n11AM Chevrut
 a Torah Story - 6th graders & families
DTSTART;TZID=America/New_York:20140309T110000
DTEND;TZID=America/New_York:20140309T120000
END:VEVENT
END:VCALENDAR
