BEGIN:VCALENDAR
PRODID:-//eluceo/ical//2.0/EN
VERSION:2.0
CALSCALE:GREGORIAN
BEGIN:VEVENT
UID:3605fed8e3cae4f8753ef4119df2457b
DTSTAMP:20260425T123126Z
SUMMARY:9 AM Federation Shalom Jax Art and Coffee
DESCRIPTION:Jewish Federation & Foundation of Northeast Florida\nJewish Jav
 a\nhttps://jewishjacksonville.org/jewish-java/federation-shalom-jax-art-an
 d-coffee-90229\n\nShalom Jacksonville invites you to tour the art exhibit\
 , “The Sound of Many Waters\,” on display at the JCA on Tuesday\, Sept
 ember 16\, from  9:30 a.m. to 11:30 a.m. The exhibit is the second annua
 l Israel Partnership project. Local artist\, Susan Natale\, whose work was
  selected for the project\, will discuss her art and Jill Abel will talk 
 about the Israel Partnership. We will gather at 9:15 a.m. in the Donzinger
  Library in the JCA lobby.\n\nCoffee and kosher nosh will be served. Pleas
 e RS...
DTSTART;TZID=America/New_York:20140916T091500
DTEND;TZID=America/New_York:20140916T120000
END:VEVENT
END:VCALENDAR
