BEGIN:VCALENDAR
PRODID:-//eluceo/ical//2.0/EN
VERSION:2.0
CALSCALE:GREGORIAN
BEGIN:VEVENT
UID:0e280e049cb4d43720b6436176dc5fa0
DTSTAMP:20260420T132150Z
SUMMARY:6:00PM Society of Healers Reception
DESCRIPTION:Jewish Federation & Foundation of Northeast Florida\nJewish Jav
 a\nhttps://jewishjacksonville.org/jewish-java/600pm-society-of-healers-rec
 eption-276752\n\nSociety of Healers' Cocktail Reception\n\nWed.\, March 27
 \, 2019\n\n6:00 PM
DTSTART;TZID=America/New_York:20190327T180000
DTEND;TZID=America/New_York:20190327T193000
END:VEVENT
END:VCALENDAR
