BEGIN:VCALENDAR
PRODID:-//eluceo/ical//2.0/EN
VERSION:2.0
CALSCALE:GREGORIAN
BEGIN:VEVENT
UID:4dcd9058ac1e2f6506d9395b3e0e6e7c
DTSTAMP:20260425T171612Z
SUMMARY:Zikaron BaSalon for young professionals
DESCRIPTION:Jewish Federation & Foundation of Northeast Florida\nCommunity 
 Calendar\nhttps://jewishjacksonville.org/jewish-federation-of-jacksonville
 -calendar/zikaron-basalon-for-young-professionals\n\n"Zikaron BaSalon (H
 ebrew for “memories in the living room”) is an annual event\, which ta
 kes place on Israeli Holocaust Memorial Day.\n\nRegister at :Jaxshlichut@
 jewishjacksonville.org
DTSTART;TZID=America/New_York:20200422T183000
DTEND;TZID=America/New_York:20200422T203000
END:VEVENT
END:VCALENDAR
