BEGIN:VCALENDAR
PRODID:-//eluceo/ical//2.0/EN
VERSION:2.0
CALSCALE:GREGORIAN
BEGIN:VEVENT
UID:95b5d32d3a78a1ecb1a0bc51247da22f
DTSTAMP:20260425T133308Z
SUMMARY:630pm JFFNF Israeli Movie Night
DESCRIPTION:Jewish Federation & Foundation of Northeast Florida\nCommunity 
 Calendar\nhttps://jewishjacksonville.org/jewish-federation-of-jacksonville
 -calendar/zero-motivation\n\nIsraeli movie night at the Center - January 
 9th\, 6:30 pm
DTSTART;TZID=America/New_York:20250109T183000
DTEND;TZID=America/New_York:20250109T203000
END:VEVENT
END:VCALENDAR
