BEGIN:VCALENDAR
PRODID:-//eluceo/ical//2.0/EN
VERSION:2.0
CALSCALE:GREGORIAN
BEGIN:VEVENT
UID:950e68d3ac7ef57bcbf9584a1bb5f3f2
DTSTAMP:20260424T020601Z
SUMMARY:Zarra Marlowe Bat Mitzvah JJC
DESCRIPTION:Jewish Federation & Foundation of Northeast Florida\nCommunity 
 Calendar\nhttps://jewishjacksonville.org/jewish-federation-of-jacksonville
 -calendar/zarra-marlowe-bat-mitzvah-jjc\n\nZarra Marlowe Bat Mitzvah JJC
DTSTART;TZID=America/New_York:20130405T000000
DTEND;TZID=America/New_York:20130406T235900
END:VEVENT
END:VCALENDAR
