BEGIN:VCALENDAR
PRODID:-//eluceo/ical//2.0/EN
VERSION:2.0
CALSCALE:GREGORIAN
BEGIN:VEVENT
UID:14d94ac3858339b3692c90158b73b444
DTSTAMP:20260424T021607Z
SUMMARY:YPF Steering Committee Meeting
DESCRIPTION:Jewish Federation & Foundation of Northeast Florida\nCommunity 
 Calendar\nhttps://jewishjacksonville.org/jewish-federation-of-jacksonville
 -calendar/ypf-steering-committee-meeting\n\nypf steering comm meeting
DTSTART;TZID=America/New_York:20201006T180000
DTEND;TZID=America/New_York:20201006T193000
END:VEVENT
END:VCALENDAR
