BEGIN:VCALENDAR
PRODID:-//eluceo/ical//2.0/EN
VERSION:2.0
CALSCALE:GREGORIAN
BEGIN:VEVENT
UID:9c92ecc5d9a0dc6ad106f22e71788b29
DTSTAMP:20260424T161259Z
SUMMARY:2PM JCA Young Concert Artist Violinist
DESCRIPTION:Jewish Federation & Foundation of Northeast Florida\nCommunity 
 Calendar\nhttps://jewishjacksonville.org/jewish-federation-of-jacksonville
 -calendar/younger-concert-artist-violinist\n\nContact us for more informat
 ion!
DTSTART;TZID=America/New_York:20190120T000000
DTEND;TZID=America/New_York:20190120T235959
END:VEVENT
END:VCALENDAR
