BEGIN:VCALENDAR
PRODID:-//eluceo/ical//2.0/EN
VERSION:2.0
CALSCALE:GREGORIAN
BEGIN:VEVENT
UID:d33ad51ad9c7cc7f00f7cfa813d746b6
DTSTAMP:20260420T175634Z
SUMMARY:Yom Kippur
DESCRIPTION:Jewish Federation & Foundation of Northeast Florida\nCommunity 
 Calendar\nhttps://jewishjacksonville.org/jewish-federation-of-jacksonville
 -calendar/yom-kippur2016\n\nFederation office closed in observance of Yom 
 Kippur.
DTSTART;TZID=America/New_York:20161012T000000
DTEND;TZID=America/New_York:20161012T235500
END:VEVENT
END:VCALENDAR
