BEGIN:VCALENDAR
PRODID:-//eluceo/ical//2.0/EN
VERSION:2.0
CALSCALE:GREGORIAN
BEGIN:VEVENT
UID:4448cc68ea12a3a34a49a2c3cb23a5a9
DTSTAMP:20260425T185521Z
SUMMARY:Yom Kippur 5779
DESCRIPTION:Jewish Federation & Foundation of Northeast Florida\nCommunity 
 Calendar\nhttps://jewishjacksonville.org/jewish-federation-of-jacksonville
 -calendar/yom-kippur-5779\n\nYom Kippur is the holiest day of the year—
 the day on which we areclosest to G‑d and to the quintessence of o
 ur own souls. It is the Day of Atonement—“For on this day He will fo
 rgive you\, to purify you\, that you be cleansed from all your sins be
 fore G‑d” (Leviticus 16:30).\n\nFor nearly twenty-six hours—from 
 several minutes before sunset on 9 Tishrei to after nightfall on 10 Tis
 hrei—we “afflict our souls”: we abstain from food and drink\, do n
 ot wash or ...
DTSTART;TZID=America/New_York:20180919T000000
DTEND;TZID=America/New_York:20180919T235900
END:VEVENT
END:VCALENDAR
