BEGIN:VCALENDAR
PRODID:-//eluceo/ical//2.0/EN
VERSION:2.0
CALSCALE:GREGORIAN
BEGIN:VEVENT
UID:af0a53eab2b904d7866f2a5b29dbd5b5
DTSTAMP:20260421T211643Z
SUMMARY:Yom Kippur
DESCRIPTION:Jewish Federation & Foundation of Northeast Florida\nCommunity 
 Calendar\nhttps://jewishjacksonville.org/jewish-federation-of-jacksonville
 -calendar/yom-kippur\n\nHoliday - Yom Kippur
DTSTART;TZID=America/New_York:20141004T000000
DTEND;TZID=America/New_York:20141004T235500
END:VEVENT
END:VCALENDAR
