BEGIN:VCALENDAR
PRODID:-//eluceo/ical//2.0/EN
VERSION:2.0
CALSCALE:GREGORIAN
BEGIN:VEVENT
UID:2b31fcf31941e6b77de4b3310dc988cb
DTSTAMP:20260422T003710Z
SUMMARY:6:30PM Yom Hazikaron - The Taste of Memories
DESCRIPTION:Jewish Federation & Foundation of Northeast Florida\nCommunity 
 Calendar\nhttps://jewishjacksonville.org/jewish-federation-of-jacksonville
 -calendar/yom-hazikaron\n\nThe entire community is welcome to join us for 
 a special program in honor of Yom Hazikaron. The event will be held at the
  JCA. RSVP to jcajax.org/ji or 904-730-2100 ext. 228.
DTSTART;TZID=America/New_York:20190506T183000
DTEND;TZID=America/New_York:20190506T200000
END:VEVENT
END:VCALENDAR
