BEGIN:VCALENDAR
PRODID:-//eluceo/ical//2.0/EN
VERSION:2.0
CALSCALE:GREGORIAN
BEGIN:VEVENT
UID:d22fa0d02917e8c40c861610f6cb1c4f
DTSTAMP:20260422T091728Z
SUMMARY:**12PM JCA Yom Ha’atzmaut
DESCRIPTION:Jewish Federation & Foundation of Northeast Florida\nCommunity 
 Calendar\nhttps://jewishjacksonville.org/jewish-federation-of-jacksonville
 -calendar/yom-haatzmaut-4-28-19\n\nVisit our site to learn more!
DTSTART;TZID=America/New_York:20190428T120000
DTEND;TZID=America/New_York:20190428T150000
END:VEVENT
END:VCALENDAR
