BEGIN:VCALENDAR
PRODID:-//eluceo/ical//2.0/EN
VERSION:2.0
CALSCALE:GREGORIAN
BEGIN:VEVENT
UID:50b10f8bb547b80286dec7d844d7aee4
DTSTAMP:20260422T091958Z
SUMMARY:Women's Philanthropy Mission to Mexico City
DESCRIPTION:Jewish Federation & Foundation of Northeast Florida\nCommunity 
 Calendar\nhttps://jewishjacksonville.org/jewish-federation-of-jacksonville
 -calendar/wp-mission-to-mexico-city-2026\n\nWomen's Philanthropy Mission t
 o Mexico City\n\n \n\nFor more details: laurenr@jewishjacksonville.org
DTSTART;TZID=America/New_York:20260415T000000
DTEND;TZID=America/New_York:20260419T235959
END:VEVENT
END:VCALENDAR
