BEGIN:VCALENDAR
PRODID:-//eluceo/ical//2.0/EN
VERSION:2.0
CALSCALE:GREGORIAN
BEGIN:VEVENT
UID:93ee76a320d457b55d1ff064f4b2ee69
DTSTAMP:20260424T161114Z
SUMMARY:8:30AM JJC World Wide Wrap
DESCRIPTION:Jewish Federation & Foundation of Northeast Florida\nCommunity 
 Calendar\nhttps://jewishjacksonville.org/jewish-federation-of-jacksonville
 -calendar/world-wide-wrap\n\nA chance to learn how to wrap tefillin
DTSTART;TZID=America/New_York:20150201T083000
DTEND;TZID=America/New_York:20150201T113000
END:VEVENT
END:VCALENDAR
